BEGIN:VCALENDAR
VERSION:2.0
PRODID:-//ChamberMaster//Event Calendar 2.0//EN
METHOD:PUBLISH
X-PUBLISHED-TTL:P3D
REFRESH-INTERVAL:P3D
CALSCALE:GREGORIAN
BEGIN:VEVENT
DTSTART:20241022T223000Z
DTEND:20241023T000000Z
X-MICROSOFT-CDO-ALLDAYEVENT:FALSE
SUMMARY:Women Wisdom & Wine - You've heard about it\, Lets learn about it
DESCRIPTION:Join Empire Crossing Retirement Living and Sandra Dee's Consulting for Seniors and Families for Women Wisdom and Wine!!\n You've Heard About It\, Let's Learn About It!\n\nJoin us for a fun and interactive event where we'll explore topics you've heard about but might want to learn more about. You will spend 5-10 at each table learning more about some fun topics from health\, personal development\, beauty and more..\n\nWhat to Expect:\n\n\n	Table Hopping: Move from table to table\, each with a different topic led by awesome facilitators. It's all about asking questions\, sharing stories\, and learning together!\n	Make New Friends: Connect with like-minded ladies and build your network while having a blast!\n\n\nWho Should Attend: All women who are curious\, eager to learn\, and ready for some great conversations!\n\nCome hang out\, learn something new\, and enjoy some great company. We can't wait to see you there!
X-ALT-DESC;FMTTYPE=text/html:<div style="text-align: center\;"><span style="font-size:18px\;"><span style="font-family:tahoma\;"><span class="S1PPyQ" style="color: rgb(49\, 48\, 52)\;">Join Empire Crossing Retirement Living and Sandra Dee&#39\;s Consulting for Seniors and Families for Women Wisdom and Wine!!</span></span></span>\n<p><span style="font-size:18px\;"><strong>&nbsp\;You&#39\;ve Heard About It\, Let&rsquo\;s Learn About It!</strong></span></p>\n\n<p><span style="font-size:18px\;">Join us for a fun and interactive event where we&rsquo\;ll explore topics you&rsquo\;ve heard about but might want to learn more about. You will spend 5-10 at each table learning more about some fun topics from health\, personal development\, beauty and more..</span></p>\n\n<p><span style="font-size:18px\;"><strong>What to Expect:</strong></span></p>\n\n<ul>\n	<li><span style="font-size:18px\;"><strong>Table Hopping:</strong> Move from table to table\, each with a different topic led by awesome facilitators. It&rsquo\;s all about asking questions\, sharing stories\, and learning together!</span></li>\n	<li><span style="font-size:18px\;"><strong>Make New Friends:</strong> Connect with like-minded ladies and build your network while having a blast!</span></li>\n</ul>\n\n<p><span style="font-size:18px\;"><strong>Who Should Attend:</strong> All women who are curious\, eager to learn\, and ready for some great conversations!</span></p>\n\n<p><span style="font-size:18px\;">Come hang out\, learn something new\, and enjoy some great company. We can&rsquo\;t wait to see you there!</span></p>\n</div>\n
LOCATION:Knights of Columbus Hall 1 Elias St Port Hope
UID:e.2285.652
SEQUENCE:3
DTSTAMP:20260425T174517Z
URL:https://business.porthopechamber.com/events/details/women-wisdom-wine-you-ve-heard-about-it-lets-learn-about-it-652
END:VEVENT

END:VCALENDAR
