BEGIN:VCALENDAR
VERSION:2.0
PRODID:-//ChamberMaster//Event Calendar 2.0//EN
METHOD:PUBLISH
X-PUBLISHED-TTL:P3D
REFRESH-INTERVAL:P3D
CALSCALE:GREGORIAN
BEGIN:VEVENT
DTSTART:20240227T233000Z
DTEND:20240228T010000Z
X-MICROSOFT-CDO-ALLDAYEVENT:FALSE
SUMMARY:Women\, Wisdom & WIne - Listen to your Gut
DESCRIPTION:Spend the evening with us discussing Women's Health and learning more about our Gut Health!  We are welcoming Dr Stacey Fritsch - Horn who is a local Naturopathic Doctor to lead our chat and answer any questions.  Lets learn more together!!
X-ALT-DESC;FMTTYPE=text/html:<font color="#000000" face="ms reference sans serif\, sans-serif"><span style="font-size: 16px\;">Spend the evening with us discussing Women&#39\;s Health and learning more about our Gut Health!&nbsp\; We are welcoming Dr Stacey Fritsch - Horn who is a local Naturopathic&nbsp\;Doctor to lead our chat and answer any questions.&nbsp\; Lets learn more together!!&nbsp\;</span></font>
LOCATION:Knights of Columbus Hall 1 Elias St Port Hope
UID:e.2285.596
SEQUENCE:3
DTSTAMP:20260424T141231Z
URL:https://business.porthopechamber.com/events/details/women-wisdom-wine-listen-to-your-gut-596
END:VEVENT

END:VCALENDAR
