BEGIN:VCALENDAR
VERSION:2.0
PRODID:-//ChamberMaster//Event Calendar 2.0//EN
METHOD:PUBLISH
X-PUBLISHED-TTL:P3D
REFRESH-INTERVAL:P3D
CALSCALE:GREGORIAN
BEGIN:VEVENT
DTSTART:20240924T223000Z
DTEND:20240925T000000Z
X-MICROSOFT-CDO-ALLDAYEVENT:FALSE
SUMMARY:Women Wisdom and Wine - Reclaiming your Strength : Empowering Women through Movement and Mindset
DESCRIPTION:Join Sandra Dee's Consulting for Seniors & Family and Aspira Empire Crossing for a night of Women Wisdom and Wine\n\nReclaim Your Strength- Empowering Women Through Movement and Mindset\n\nThis talk is designed for women of all ages who are eager to take charge of their health and fitness with confidence. As we age\, women often lose their sense of awareness of the changes happening within their bodies. Life stressors\, family obligations\, hormonal changes and general aging all contribute to women feeling out of touch with themselves.\n\n\n\nDalyce will discuss how choosing to empower yourself through movement is arguably the most life changing gift you can give yourself.\n\n\n\nWe will do a deep dive into women's health\, fitness and why Muay Thai encourages women to not only develop self defence skills\, but mental resilience and physical confidence. \n\n \n\nJoin us as we laugh and share for an evening of empowerment. The bond that brings us together is that we are all women\; built and designed with a purpose. Together we can create a space for conversation and confidence building.\n\n\n\nMore about Dalyce\n\nDalyce can be described in one word. She is a mover\; and lives by the mantra that "movement changes lives". Her contagious energy has made her a sought after coach and fitness industry leader for the past two decades. A lifelong competitive athlete\; Dalyce holds accolades in gymnastics\, Crossfit\, Reebok Spin and she has a winning amateur Muay Thai record including an IKF World Championship title.
X-ALT-DESC;FMTTYPE=text/html:<div style="text-align: center\;">\n<div><span style="color:#008080\;"><span style="font-size:18px\;"><span class="OYPEnA text-decoration-none text-strikethrough-none">Join Sandra Dee&#39\;s Consulting for Seniors &amp\; Family and Aspira Empire Crossing for a night of Women Wisdom and Wine</span></span></span></div>\n\n<p --font-size:="" --line-height:="" class="cvGsUA direction-ltr align-center para-style-body" line-height:="" style="color: rgb(49\, 48\, 52)\; font-family: " yafdjjtk5uu=""><span style="font-size:18px\;">Reclaim Your Strength- Empowering Women Through Movement and Mindset</span><br />\n<span style="font-size:16px\;"><span style="color:black\;">This talk is designed for women of all ages who are eager to take charge of their health and fitness with confidence. As we age\, women often lose their sense of awareness of the changes happening within their bodies. Life stressors\, family obligations\, hormonal changes and general aging all contribute to women feeling out of touch with themselves.<br />\n<br />\nDalyce will discuss how choosing to empower yourself through movement is arguably the most life changing gift you can give yourself.<br />\n<br />\nWe will do a deep dive into women&rsquo\;s health\, fitness and why Muay Thai encourages women to not only develop self defence skills\, but mental resilience and physical confidence.&nbsp\;</span><br />\n&nbsp\;<br />\n<span style="color:#1F1F2A\;">Join us as we laugh and share for an evening of empowerment. The bond that brings us together is that we are all women\; built and designed with a purpose. Together we can create a space for conversation and confidence building.</span><br />\n<br />\nMore about Dalyce<br />\n<span style="text-align: center\; color: rgb(31\, 31\, 42)\;">Dalyce can be described in one word. She is a mover\; and lives by the mantra that &ldquo\;movement changes lives&rdquo\;. Her contagious energy has made her a sought after coach and fitness industry leader for the past two decades. A lifelong competitive athlete\; Dalyce holds accolades in gymnastics\, Crossfit\, Reebok Spin and she has a winning amateur Muay Thai record including an IKF World Championship title.</span></span><br style="color: rgb(49\, 48\, 52)\; text-align: center\;" />\n&nbsp\;</p>\n</div>\n
LOCATION:Port Hope Knights of Columbus Hall 1 Elias St
UID:e.2285.648
SEQUENCE:3
DTSTAMP:20260425T161221Z
URL:https://business.porthopechamber.com/events/details/women-wisdom-and-wine-reclaiming-your-strength-empowering-women-through-movement-and-mindset-648
END:VEVENT

END:VCALENDAR
