BEGIN:VCALENDAR
VERSION:2.0
PRODID:-//ChamberMaster//Event Calendar 2.0//EN
METHOD:PUBLISH
X-PUBLISHED-TTL:P3D
REFRESH-INTERVAL:P3D
CALSCALE:GREGORIAN
BEGIN:VEVENT
DTSTART:20240229T160000Z
DTEND:20240229T173000Z
X-MICROSOFT-CDO-ALLDAYEVENT:FALSE
SUMMARY:Sustainability Simplified Session 1: Indigenous Economic Reconciliation
DESCRIPTION:A step by step Learning Series\, based on the Canadian Council for Aboriginal Business (CCAB) research. This series is led by experienced Indigenous Trainers.\n\n\n\n  What is Business Economic Reconciliation? Why does it matter and what steps can my firm take?\n\n\n\n What is the 4-pronged principled approach?\n\nThe practical tools and recommendations are applicable for\n\nall sizes of firms   even those with under 10 employees.
X-ALT-DESC;FMTTYPE=text/html:A step by step Learning Series\, based on the Canadian Council for Aboriginal Business (CCAB) research. This series is led by experienced Indigenous Trainers.<br />\n<br />\n&bull\; What is Business Economic Reconciliation? Why does it matter and what steps can my firm take?<br />\n<br />\n&bull\;What is the 4-pronged principled approach?<br />\nThe practical tools and recommendations are applicable for<br />\nall sizes of firms &mdash\; even those with under 10 employees.
LOCATION:Virtual Session Link will be provided upon registration
UID:e.2285.597
SEQUENCE:3
DTSTAMP:20260424T121658Z
URL:https://business.porthopechamber.com/events/details/sustainability-simplified-session-1-indigenous-economic-reconciliation-597
END:VEVENT

END:VCALENDAR
