BEGIN:VCALENDAR
VERSION:2.0
PRODID:-//ChamberMaster//Event Calendar 2.0//EN
METHOD:PUBLISH
X-PUBLISHED-TTL:P3D
REFRESH-INTERVAL:P3D
CALSCALE:GREGORIAN
BEGIN:VEVENT
DTSTART:20250530T143000Z
DTEND:20250530T160000Z
X-MICROSOFT-CDO-ALLDAYEVENT:FALSE
SUMMARY:Protect What Matters Ensure you Business is Safe and Secure
DESCRIPTION:As our communities grow and change\, staying proactive about business security is more important than ever especially with crime on the rise and summer approaching.\n\nProtect What Matters is a must-attend event designed to equip local business owners and managers with the tools\, technology\, and strategies they need to stay secure and prepared.\n\nFrom practical prevention tips to the latest in security innovation\, you'll leave with the confidence to protect your business now and in the future.\n\nJoin us to take meaningful steps toward smarter\, stronger security for your business.
X-ALT-DESC;FMTTYPE=text/html:<p data-end="286" data-start="121">As our communities grow and change\, staying proactive about business security is more important than ever&mdash\;especially with crime on the rise and summer approaching.</p>\n\n<p data-end="472" data-start="288"><strong data-end="312" data-start="288">Protect What Matters</strong> is a must-attend event designed to equip local business owners and managers with the tools\, technology\, and strategies they need to stay secure and prepared.</p>\n\n<p data-end="625" data-start="474">From practical prevention tips to the latest in security innovation\, you&rsquo\;ll leave with the confidence to protect your business now and in the future.</p>\n\n<p data-end="716" data-start="627"><strong data-end="716" data-start="627">Join us to take meaningful steps toward smarter\, stronger security for your business.</strong></p>\n
LOCATION:Port Hope Town Hall Council Chambers 56 Queen St Port Hope
UID:e.2285.923
SEQUENCE:3
DTSTAMP:20260419T142839Z
URL:https://business.porthopechamber.com/events/details/protect-what-matters-ensure-you-business-is-safe-and-secure-923
END:VEVENT

END:VCALENDAR
