BEGIN:VCALENDAR
VERSION:2.0
PRODID:-//ChamberMaster//Event Calendar 2.0//EN
METHOD:PUBLISH
X-PUBLISHED-TTL:P3D
REFRESH-INTERVAL:P3D
CALSCALE:GREGORIAN
BEGIN:VEVENT
DTSTART:20240925T200000Z
DTEND:20240925T230000Z
X-MICROSOFT-CDO-ALLDAYEVENT:FALSE
SUMMARY:PHAI in the Park
DESCRIPTION:Come to Memorial Park next Wednesday Sept 25 from 4-7pm\n\n\n\nPort Hope Area Initiative - PHAI along with their project partners for\n\nPHAI in the Park!\n\n\n\nAn interactive family friendly event with Photo Ops with some BIG Equipment\, Refreshments\, Prizes and MORE!!!
X-ALT-DESC;FMTTYPE=text/html:<div class="xdj266r x11i5rnm xat24cr x1mh8g0r x1vvkbs x126k92a" style="margin: 0px\; white-space-collapse: preserve\; overflow-wrap: break-word\; font-family: &quot\;Segoe UI Historic&quot\;\, &quot\;Segoe UI&quot\;\, Helvetica\, Arial\, sans-serif\; color: rgb(5\, 5\, 5)\; font-size: 15px\;">\n<div dir="auto" style="font-family: inherit\;">Come to Memorial Park next Wednesday Sept 25 from 4-7pm</div>\n</div>\n\n<div class="x11i5rnm xat24cr x1mh8g0r x1vvkbs xtlvy1s x126k92a" style="margin: 0.5em 0px 0px\; white-space-collapse: preserve\; overflow-wrap: break-word\; font-family: &quot\;Segoe UI Historic&quot\;\, &quot\;Segoe UI&quot\;\, Helvetica\, Arial\, sans-serif\; color: rgb(5\, 5\, 5)\; font-size: 15px\;">\n<div dir="auto" style="font-family: inherit\;"><span class="html-span xdj266r x11i5rnm xat24cr x1mh8g0r xexx8yu x4uap5 x18d9i69 xkhd6sd x1hl2dhg x16tdsg8 x1vvkbs" style="margin: 0px\; text-align: inherit\; overflow-wrap: break-word\; padding: 0px\; font-family: inherit\;"><a attributionsrc="/privacy_sandbox/comet/register/source/?xt=AZXmxq2oj_7NMBYIVafokmyO0kZvK5KMwrZBBm9Mv84P826Lvq09T15k1MjPHljMRZf2bKe3iEvW5woDQ75oUcMHK6dT-O_49LaPSN3-CFhpiHu4jGxsmZt6AqG-B63-6jIeTAzwK7ZZQV0NV9bJPNQ__SxVEhDfMyWm_jFai9ZfmRglvGiic_6stzGvHZndz014CJEmsbHc6IhP6GuqbE86BXrHmRlcPZUrE_9x1w-fo1sf5ythcSVXFTkW7vx6cF4rGklBKcn1bMkctsfspiYpCxyXtWlEuPFYwo5ncjTslTB0HOlclfN7tbF7QTvKBYL3zeVD1T-ABecyGO-Ugw-BBvQfGU2P6jk_Je9MYPgm6a46wvhJFbuydqcTlmrO-v8aR8_9M5nW0hc5QOrs5DZMcouAhTEF7KDMwca8j5o_ooV_1igeIU3eCsUhYCN5X0-lZVktB8tCoXVJW2n-6_cCdzkpMPSMo-9PqNhSDSWPWLnJDfTw9GSJ4lMYhdMtpwkiaWsU4ZdEO39u5DyHdbanLtTM84uqlnYgw4Wyjeclbw2F16_khlZDNEs18FI65S4gh7Tvgj1WVdRUmj09aPkCyDYh2O9IjJqs83kZu2d0qgk0_JAlpNuP9riMi9iCUXcCk6HLsIwNUlVwY2HQF7p8RGTZMy8A8GKkCNMOysA73LPVpGnoRv7EyUum2cropR666G_rN_vHW6VluZHs6ZuDyL_OV9STXyoE3b3X-zKDuMLj3CkHTAKcbbJWY8fDt752P6pYQDB91ss1xrPTnGB44DVVFZk828xBbMlco_X5r42ZsuDby6Pw-fElsAgTk7f2mpWUlUmy2guV-wAReMIP41vvh7F27jDE5xhXE4OdtwcsyjfrrvMyr1M4pr_j4hZMiW1MJoHFhIqo4NaxyvXzwV6s5wl4AYGqhlw2Cqo2C_cfXBIT5ybwZTbiKcgqeD_10pIHMbGPzcp8VxABtD3XELhOACq9EM-RC1sUzjeKD_iy-mQFP_CEJ0gGnbW_MmmLu7k8nSONwqzT8oLCTVJ34zV2Ruzj72N_Pt-ZOTOI9SU4zGJmHUnv-HtCAuR7c9NSt2AZOlDvfP14RnQBYCRMzDBSkSv80OpuQ8AFxUGiRm0pqYHnuFixqRgOFQb7MnRDiCO0pU82MwGYsHZjgnt2Ch3zWrUKnuZKCMmekn5kmJ3fhyP1JMD8FLAQ_kFZ-UU1O-sYVNmxXsPij_L0AuCS9JJCAGOPqtbAhDmmh2UUtKgSh0HU3ET6AqrK_1dBXzWoEp1OKQekh0mHGhlwMpZ78_cCx5LbeoiVK_cKvgLZM3loxuJj2XB0DGK7Qobi4tPyeb9f4i06WJBtjU3CGBMv56JJrmRwe6u6cWbqr9MG4JPSh7Wjd4X7pmBmHQzY7egeXklo748IgvmV_874yckt" class="x1i10hfl xjbqb8w x1ejq31n xd10rxx x1sy0etr x17r0tee x972fbf xcfux6l x1qhh985 xm0m39n x9f619 x1ypdohk xt0psk2 xe8uvvx xdj266r x11i5rnm xat24cr x1mh8g0r xexx8yu x4uap5 x18d9i69 xkhd6sd x16tdsg8 x1hl2dhg xggy1nq x1a2a7pz x1sur9pj xkrqix3 x1fey0fg xo1l8bm" href="https://www.facebook.com/PH.Area.Initiative?__cft__[0]=AZU0Lk4xPl8SeAeWKwZ8tWyUMevRbdDyNJ6IJQ_vn1-b27R3bYc0EjKXR2-Ltts5zEcULGzvbH-lAcfOoRPQP0PpAiDoWN_L-dhCquaJNcEMFVVO1wnuI46O2Hsg26-rnFoZWZtGUuQAB1v-N0i4zAxSMPBAXs0VTK1FH0mL6p4W2w&amp\;__tn__=-]K-R" role="link" style="color: var(--blue-link)\; cursor: pointer\; text-decoration-line: none\; outline: none\; list-style: none\; margin: 0px\; text-align: inherit\; border-style: none\; -webkit-tap-highlight-color: transparent\; padding: 0px\; box-sizing: border-box\; border-width: 0px\; touch-action: manipulation\; background-color: transparent\; display: inline\; font-family: inherit\;" tabindex="0" target="_blank"><span class="xt0psk2" style="display: inline\; font-family: inherit\;">Port Hope Area Initiative - PHAI</span></a></span> along with their project partners for</div>\n\n<div dir="auto" style="font-family: inherit\;">PHAI in the Park!</div>\n</div>\n\n<div class="x11i5rnm xat24cr x1mh8g0r x1vvkbs xtlvy1s x126k92a" style="margin: 0.5em 0px 0px\; white-space-collapse: preserve\; overflow-wrap: break-word\; font-family: &quot\;Segoe UI Historic&quot\;\, &quot\;Segoe UI&quot\;\, Helvetica\, Arial\, sans-serif\; color: rgb(5\, 5\, 5)\; font-size: 15px\;">\n<div dir="auto" style="font-family: inherit\;">An interactive family friendly event with Photo Ops with some BIG Equipment\, Refreshments\, Prizes and MORE!!!</div>\n</div>\n
LOCATION:
UID:e.2285.651
SEQUENCE:3
DTSTAMP:20260425T160324Z
URL:https://business.porthopechamber.com/events/details/phai-in-the-park-651
END:VEVENT

END:VCALENDAR
