BEGIN:VCALENDAR
VERSION:2.0
PRODID:-//ChamberMaster//Event Calendar 2.0//EN
METHOD:PUBLISH
X-PUBLISHED-TTL:P3D
REFRESH-INTERVAL:P3D
CALSCALE:GREGORIAN
BEGIN:VEVENT
DTSTART:20240125T130000Z
DTEND:20240125T140000Z
X-MICROSOFT-CDO-ALLDAYEVENT:FALSE
SUMMARY:Morning Mingle - Members Only Exclusive
DESCRIPTION:Reconnect with your fellow Chamber Members after the holidays and to welcome 2024.\n\nChat\, Network and Learn a little bit about what's going on in Port Hope all over your morning beverage.
X-ALT-DESC;FMTTYPE=text/html:<div style="color: rgb(64\, 63\, 66)\; font-family: Arial\, Verdana\, Helvetica\, sans-serif\; font-size: 14px\; white-space-collapse: preserve\; text-align: center\;">Reconnect with your fellow Chamber Members after the holidays and to welcome 2024.</div>\n\n<div style="color: rgb(64\, 63\, 66)\; font-family: Arial\, Verdana\, Helvetica\, sans-serif\; font-size: 14px\; white-space-collapse: preserve\; text-align: center\;">Chat\, Network and Learn a little bit about what&#39\;s going on in Port Hope all over your morning beverage.</div>\n
LOCATION:Roseglen Village Retirement Living 53 Wellington St Port Hope
UID:e.2285.591
SEQUENCE:3
DTSTAMP:20260424T141312Z
URL:https://business.porthopechamber.com/events/details/morning-mingle-members-only-exclusive-591
END:VEVENT

END:VCALENDAR
