BEGIN:VCALENDAR
VERSION:2.0
PRODID:-//ChamberMaster//Event Calendar 2.0//EN
METHOD:PUBLISH
X-PUBLISHED-TTL:P3D
REFRESH-INTERVAL:P3D
CALSCALE:GREGORIAN
BEGIN:VEVENT
DTSTART:20231128T163000Z
DTEND:20231128T180000Z
X-MICROSOFT-CDO-ALLDAYEVENT:FALSE
SUMMARY:Mastering Digital Marketing - Strategic Content Planning
DESCRIPTION:Join Lisa Marie Einarson\, the owner of Simple Desk Solutions\, for a Lunch and Learn session. Learn how to construct a laser-focused digital marketing strategy. She'll walk you through a content planning approach that ensures every piece of content you create is working double-time. Save time and effort by reusing content across your blog\, social media\, and email campaigns. This session arms you with the skills to craft a content strategy that guarantees your message reaches your audience loud and clear. Harness the power of digital marketing to drive your business forward - no fluff\, just results!
X-ALT-DESC;FMTTYPE=text/html:Join Lisa Marie Einarson\, the owner of Simple Desk Solutions\, for a Lunch and Learn session. Learn how to construct a laser-focused digital marketing strategy. She&#39\;ll walk you through a content planning approach that ensures every piece of content you create is working double-time. Save time and effort by reusing content across your blog\, social media\, and email campaigns. This session arms you with the skills to craft a content strategy that guarantees your message reaches your audience loud and clear. Harness the power of digital marketing to drive your business forward - no fluff\, just results!
LOCATION:Hampton Inn Ganaraska Meeting Room 80 Henderson St Port Hope
UID:e.2285.579
SEQUENCE:3
DTSTAMP:20260424T025459Z
URL:https://business.porthopechamber.com/events/details/mastering-digital-marketing-strategic-content-planning-579
END:VEVENT

END:VCALENDAR
