BEGIN:VCALENDAR
VERSION:2.0
PRODID:-//ChamberMaster//Event Calendar 2.0//EN
METHOD:PUBLISH
X-PUBLISHED-TTL:P3D
REFRESH-INTERVAL:P3D
CALSCALE:GREGORIAN
BEGIN:VEVENT
DTSTART:20241023T163000Z
DTEND:20241023T173000Z
X-MICROSOFT-CDO-ALLDAYEVENT:FALSE
SUMMARY:Lunch & Learn for Professional Advisors
DESCRIPTION:As a trusted advisor\, you play an important role in helping clients realize and create their personal philanthropic vision. Research shows that only 7% of Canadians would leave money to charity in their Will in the absence of a specific discussion around charitable giving. However\, if the issue is raised with them\, perhaps when drawing up a Will or financial plan\, the figures rises to 27% - more than a three-fold increase.\n\nYou can help your clients enhance their legacy by showing them their giving options and by demonstrating to them how they can make a positive impact in their community.\n\n\n\nThis is one of four Lunch & Learn events being held across Northumberland County for Professional Advisors to learn more about the community foundation\, and for information on how to start the giving conversation with your clients.
X-ALT-DESC;FMTTYPE=text/html:<p>As a trusted advisor\, you play an important role in helping clients realize and create their personal philanthropic vision. Research shows that only 7% of Canadians would leave money to charity in their Will in the absence of a specific discussion around charitable giving. However\, if the issue is raised with them\, perhaps when drawing up a Will or financial plan\, the figures rises to 27% - more than a three-fold increase.</p>\n\n<p>You can help your clients enhance their legacy by showing them their giving options and by demonstrating to them how they can make a positive impact in their community.<br />\n<br />\nThis is one of four Lunch &amp\; Learn events being held across Northumberland County for Professional Advisors to learn more about the community foundation\, and for information on how to start the giving conversation with your clients.</p>\n
LOCATION:Port Hope Public Library\, 31 Queen St\, Port Hope\, ON L1A 2Y8
UID:e.2285.637
SEQUENCE:3
DTSTAMP:20260425T174044Z
URL:https://business.porthopechamber.com/events/details/lunch-learn-for-professional-advisors-637
END:VEVENT

END:VCALENDAR
