BEGIN:VCALENDAR
VERSION:2.0
PRODID:-//ChamberMaster//Event Calendar 2.0//EN
METHOD:PUBLISH
X-PUBLISHED-TTL:P3D
REFRESH-INTERVAL:P3D
CALSCALE:GREGORIAN
BEGIN:VEVENT
DTSTART:20240102T220000Z
DTEND:20240103T020000Z
X-MICROSOFT-CDO-ALLDAYEVENT:FALSE
SUMMARY:Free Open Gym
DESCRIPTION:Free Open Gym \n\nSponsored by Port Hope Chamber of Commerce
X-ALT-DESC;FMTTYPE=text/html:Free Open Gym&nbsp\;<br />\nSponsored by Port Hope Chamber of Commerce
LOCATION:Port Hope Town Park Recreation Centre 62 McCaul St Port Hope
UID:e.2285.588
SEQUENCE:3
DTSTAMP:20260424T140357Z
URL:https://business.porthopechamber.com/events/details/free-open-gym-588
END:VEVENT

END:VCALENDAR
