BEGIN:VCALENDAR
VERSION:2.0
PRODID:-//ChamberMaster//Event Calendar 2.0//EN
METHOD:PUBLISH
X-PUBLISHED-TTL:P3D
REFRESH-INTERVAL:P3D
CALSCALE:GREGORIAN
BEGIN:VEVENT
DTSTART:20231207T130000Z
DTEND:20231207T140000Z
X-MICROSOFT-CDO-ALLDAYEVENT:FALSE
SUMMARY:Cancelled -- Morning Mingle - Members Only Exclusive
DESCRIPTION:Start the Day re-connecting with fellow Chamber Members for an informal get together for pleasant conversation and getting to know fellow members.
X-ALT-DESC;FMTTYPE=text/html:Start the Day re-connecting with fellow Chamber Members for an informal get together for pleasant conversation and getting to know fellow members.&nbsp\;
LOCATION:Roseglen Village Retirement Living 53 Wellington St Port Hope
UID:e.2285.580
SEQUENCE:3
DTSTAMP:20260422T215135Z
URL:https://business.porthopechamber.com/events/details/cancelled-morning-mingle-members-only-exclusive-580
END:VEVENT

END:VCALENDAR
