BEGIN:VCALENDAR
VERSION:2.0
PRODID:-//ChamberMaster//Event Calendar 2.0//EN
METHOD:PUBLISH
X-PUBLISHED-TTL:P3D
REFRESH-INTERVAL:P3D
CALSCALE:GREGORIAN
BEGIN:VEVENT
DTSTART:20240926T200000Z
DTEND:20240926T220000Z
X-MICROSOFT-CDO-ALLDAYEVENT:FALSE
SUMMARY:Business Launch Party and Ribbon Cutting - Benefits 4 Business
DESCRIPTION:We are delighted to invite you to the official launch party for Benefits 4 Business! Celebrate alongside the Port Hope & District Chamber of Commerce with a ribbon cutting at 4:30pm. Please join us for refreshments\, kids corner\, and networking. We look forward to seeing you there!
X-ALT-DESC;FMTTYPE=text/html:<div style="text-align: center\;"><span style="font-size:16px\;"><span style="font-family:arial\;">We are delighted to invite you to the official launch party for Benefits 4 Business! Celebrate alongside the Port Hope &amp\; District Chamber of Commerce with a ribbon cutting at 4:30pm. Please join us for refreshments\, kids corner\, and networking. We look forward to seeing you there!</span></span></div>\n
LOCATION:Knights of Columbus Hall Port Hope 1 Elias St Port Hope
UID:e.2285.649
SEQUENCE:3
DTSTAMP:20260425T160952Z
URL:https://business.porthopechamber.com/events/details/business-launch-party-and-ribbon-cutting-benefits-4-business-649
END:VEVENT

END:VCALENDAR
