BEGIN:VCALENDAR
VERSION:2.0
PRODID:-//ChamberMaster//Event Calendar 2.0//EN
METHOD:PUBLISH
X-PUBLISHED-TTL:P3D
REFRESH-INTERVAL:P3D
CALSCALE:GREGORIAN
BEGIN:VEVENT
DTSTART:20241023T210000Z
DTEND:20241023T230000Z
X-MICROSOFT-CDO-ALLDAYEVENT:FALSE
SUMMARY:Business After 5
DESCRIPTION:Join us this month for a lively networking event hosted by Sandra Hicks from Sandra Dee's Consulting for Seniors and Families and Sarah Turck from Mortgages By Sarah Turck! \n\n \n\nIt's a great opportunity to mix and mingle with fellow members of the Port Hope and District Chamber of Commerce. Enjoy engaging activities\, share ideas\, and connect with local businesses in a relaxed atmosphere. Come ready for a fun evening of conversation and connection we can't wait to see you there!
X-ALT-DESC;FMTTYPE=text/html:<p --cyv3zq:="" --gjplxq:="" class="cvGsUA direction-ltr align-center para-style-body" letter-spacing:="" line-height:="" style="color: rgb(93\, 63\, 51)\; text-align: center\;" yacgexvxf8q=""><span style="font-size:18px\;"><span style="font-family:arial\;"><span class="OYPEnA font-feature-liga-off font-feature-clig-off font-feature-calt-off text-decoration-none text-strikethrough-none" style="font-kerning: none\;">Join us this month for a lively networking event hosted by Sandra Hicks from Sandra Dee&#39\;s Consulting for Seniors and Families and Sarah Turck from Mortgages By Sarah Turck!</span><span class="OYPEnA font-feature-liga-off font-feature-clig-off font-feature-calt-off text-decoration-none text-strikethrough-none white-space-prewrap" style="font-kerning: none\;"> </span></span></span></p>\n\n<p --cyv3zq:="" --gjplxq:="" class="cvGsUA direction-ltr align-center para-style-body" letter-spacing:="" line-height:="" style="color: rgb(93\, 63\, 51)\; text-align: center\;" yacgexvxf8q="">&nbsp\;</p>\n\n<p --cyv3zq:="" --gjplxq:="" class="cvGsUA direction-ltr align-center para-style-body" letter-spacing:="" line-height:="" style="color: rgb(93\, 63\, 51)\; text-align: center\;" yacgexvxf8q=""><span style="font-size:18px\;"><span style="font-family:arial\;"><span class="OYPEnA font-feature-liga-off font-feature-clig-off font-feature-calt-off text-decoration-none text-strikethrough-none" style="font-kerning: none\;">It&rsquo\;s a great opportunity to mix and mingle with fellow members of the Port Hope and District Chamber of Commerce. Enjoy engaging activities\, share ideas\, and connect with local businesses in a relaxed atmosphere. Come ready for a fun evening of conversation and connection&mdash\;we can&rsquo\;t wait to see you there!</span></span></span><br />\n&nbsp\;</p>\n
LOCATION:Ganaraska Brewing Company 33 Mill St S Port Hope
UID:e.2285.653
SEQUENCE:3
DTSTAMP:20260425T173916Z
URL:https://business.porthopechamber.com/events/details/business-after-5-653
END:VEVENT

END:VCALENDAR
