BEGIN:VCALENDAR
VERSION:2.0
PRODID:-//ChamberMaster//Event Calendar 2.0//EN
METHOD:PUBLISH
X-PUBLISHED-TTL:P3D
REFRESH-INTERVAL:P3D
CALSCALE:GREGORIAN
BEGIN:VEVENT
DTSTART:20240228T160000Z
DTEND:20240228T164500Z
X-MICROSOFT-CDO-ALLDAYEVENT:FALSE
SUMMARY:Achieva Learning Session
DESCRIPTION:Come learn about Achieva\,\n\n \n\nA fully funded learning and development program that fuels growth through learning experiences tailored to the unique needs of your business and employees. With Achieva\, you can enable a more agile and adaptive workforce that can succeed in the face of technological advancements and evolving industries. \n\n \n\nWhat is Achieva?\n\n Learning Experience Platform (LXP)\n\n For Small to Medium Enterprises\n\n Build Durable Skills for the Future\n\n Gain Relevant Industry Certifications\n\n Over 1\,000 Courses & Micro-Courses\n\n Customizable "Learning Pathways"\n\n Self-Paced + Collaborative Learning\n\n Reporting on Skill Development
X-ALT-DESC;FMTTYPE=text/html:<span style="font-size:16px\;"><span style="font-family:arial\;"><span style="color:#393632\;">Come learn about Achieva\,</span><br />\n&nbsp\;<br />\n<span style="color:#393632\;">A fully funded learning and development program that fuels growth through learning experiences tailored to the unique needs of your business and employees. With Achieva\, you can </span><span style="color:black\;">enable a more agile and adaptive workforce that can succeed in the face of technological advancements and evolving industries.&nbsp\;</span><br />\n&nbsp\;<br />\n<strong><span style="color:#002451\;">What is Achieva?</span></strong><br />\n<span style="color:#002451\;">&#10003\;</span><span style="color:#002451\;">Learning Experience Platform (LXP)</span><br />\n<span style="color:#002451\;">&#10003\;</span><span style="color:#002451\;">For Small to Medium Enterprises</span><br />\n<span style="color:#002451\;">&#10003\;</span><span style="color:#002451\;">Build Durable Skills for the Future</span><br />\n<span style="color:#002451\;">&#10003\;</span><span style="color:#002451\;">Gain Relevant Industry Certifications</span><br />\n<span style="color:#002451\;">&#10003\;</span><span style="color:#002451\;">Over 1\,000 Courses &amp\; Micro-Courses</span><br />\n<span style="color:#002451\;">&#10003\;</span><span style="color:#002451\;">Customizable &ldquo\;Learning Pathways&rdquo\;</span><br />\n<span style="color:#002451\;">&#10003\;</span><span style="color:#002451\;">Self-Paced + Collaborative Learning</span><br />\n<span style="color:#002451\;">&#10003\;</span><span style="color:#002451\;">Reporting on Skill Development</span></span></span>
LOCATION:Virtual Session Link will be provided upon Registration
UID:e.2285.600
SEQUENCE:3
DTSTAMP:20260424T121225Z
URL:https://business.porthopechamber.com/events/details/achieva-learning-session-600
END:VEVENT

END:VCALENDAR
