BEGIN:VCALENDAR
VERSION:2.0
PRODID:-//ChamberMaster//Event Calendar 2.0//EN
METHOD:PUBLISH
X-PUBLISHED-TTL:P3D
REFRESH-INTERVAL:P3D
CALSCALE:GREGORIAN
BEGIN:VEVENT
DTSTART:20240912T210000Z
DTEND:20240913T020000Z
X-MICROSOFT-CDO-ALLDAYEVENT:FALSE
SUMMARY:2024 Port Hope Fair - Sow It\, Grow It \, Show It
DESCRIPTION:Get ready for the Port Hope Fair -Packed with fun\, competitions\, and amazing displays\, this year's fair is going to be unforgettable! \n \n\nCheck out the Fairbook for all the details! https://www.porthopefair.com/fair-book/
X-ALT-DESC;FMTTYPE=text/html:<span style="color: rgb(5\, 5\, 5)\; font-family: &quot\;Segoe UI Historic&quot\;\, &quot\;Segoe UI&quot\;\, Helvetica\, Arial\, sans-serif\; font-size: 15px\; white-space-collapse: preserve\; background-color: rgb(255\, 255\, 255)\;">Get ready for the Port Hope Fair -Packed with fun\, competitions\, and amazing displays\, this year&#39\;s fair is going to be unforgettable! </span>\n<div>&nbsp\;</div>\n\n<div><span style="color: rgb(5\, 5\, 5)\; font-family: &quot\;Segoe UI Historic&quot\;\, &quot\;Segoe UI&quot\;\, Helvetica\, Arial\, sans-serif\; font-size: 15px\; white-space-collapse: preserve\; background-color: rgb(255\, 255\, 255)\;">Check out the Fairbook for all the details! </span><span class="html-span xdj266r x11i5rnm xat24cr x1mh8g0r xexx8yu x4uap5 x18d9i69 xkhd6sd x1hl2dhg x16tdsg8 x1vvkbs" style="margin: 0px\; overflow-wrap: break-word\; padding: 0px\; font-family: &quot\;Segoe UI Historic&quot\;\, &quot\;Segoe UI&quot\;\, Helvetica\, Arial\, sans-serif\; color: rgb(5\, 5\, 5)\; font-size: 15px\; white-space-collapse: preserve\; background-color: rgb(255\, 255\, 255)\;"><a attributionsrc="/privacy_sandbox/comet/register/source/?xt=AZWbR7VauczmT0G52hwz68-SJuVRMVHWpKzmqGEF2QckfNxXIP59n4iro73bg-wAi7JRz65eK6QeosQha2hm6cBT1suUroJi4dvzMBtwZDnrFZkkPp6vE2j1wU-_2LCzgA8GynzUndM-X8XeZPJFKN2YajgDZvWpO9uKdKaxgPgDFU8LCmdlIuoW2ebCuKmYH2D7BSKYG76SmOAPmhOojpT0X_leUS9sJO4CvgDH70wxZKvhAO8Ka9RVRPuaQ6B9eKsFecMBc0DI5E723CmH_fXmR-Mi5QEySZXIUz_QpRJTGZ4CdJahc52OJzLpjYqiy-dD2wqLRGF89yl45rsKNevVT6b715XMEj1HlkBpYgSnFYZVH5F5OhQf5NMNElpSX1p3nLr8DSnXpIE-ukRJL7c3BBs73L_NwibjjKFgahDGLEud8huh5FsLiKS4YJTaA5YlQi_QPXAemj-E5bx2vMYp4xZZgP0cVyzlHC6n4-UCDzIARiPTZiizDUjEBKlc70a-R3QNG570BTZiiSWqgvP1OPy9lCPieUY6lTvij9pJ9rn67kHFEh92yYkOg1FA-PJjf0T84laMg3-xMyN1vvtaRT3hV_ONKaqrKl1JzRQoyNFzibZMpP0EGaB60mnJpev3y16ge4Tl4jKgQLvQiY9PKP5hyddWwnLgLhTTCwq2iMlfjP4ZPxx4a4Yub2yTISXhCzWrLM0rYRHPfvdI3FTl6H_pjrcRg8ZS61UhWSJ3h-TYFAydvC7EvGOg37epFlvB9Xrn1r2dLYA8oMFOi0-UTPpEy8vvSh4rZP9upNRTuGjzYuFQy2plL4SGWC1poI5xQappoLMzy0dNkou763_lKhCRffG7cxxENLsN_vhvf4Tg6lnGxxRv9s7-dJFD7CGub9Ls1RG7N49cEVAHwm2Soj68GHowcFVqqs04f2blrrpFs6TSyQgLOSA5kDrrJZyHLzejoYH5ojfnMiyIFKXvwr_jLYMo_ZHSDTycZyDw8FWMgXYliLjoszmqUTbRifYCNv9gUGbRhdTNYN7j06lYfOol4NQ3jmumfWTCOZxJ8SgUtcwFBUdMPW5GgoZ0cUY1HAUyvvPS381UVgnUzEDxilWfcQ2ZXiveuf5uQUpVKBsPlr85lBu7WkVIqwlZuLpxxCW6A8-XDjT7-OUYxbVc9TZxsVOVLLfawWk5qtR4FfgeD_n6AOtuwZmpSe14bPan3_WmJsZS6oqpQeXF0L_Pw_BDLHbw-0FmaUEFk-3qiGuqdaPMXOXwe6uazCIqWe236KUqdlXhJFQDjF_AbU_NO-OYvaSBywUw9M4tgxmZW9rMHm7N2YzInby6o2YsELw" class="x1i10hfl xjbqb8w x1ejq31n xd10rxx x1sy0etr x17r0tee x972fbf xcfux6l x1qhh985 xm0m39n x9f619 x1ypdohk xt0psk2 xe8uvvx xdj266r x11i5rnm xat24cr x1mh8g0r xexx8yu x4uap5 x18d9i69 xkhd6sd x16tdsg8 x1hl2dhg xggy1nq x1a2a7pz x1sur9pj xkrqix3 x1fey0fg" href="https://www.porthopefair.com/fair-book/?fbclid=IwZXh0bgNhZW0CMTAAAR1BDSx-5kdxgV1Np6k02OM_nT9AoNWL9gNMW4EvqwddaxzOf3mLRq8NTRw_aem_OLt4hadjxGySUyA8ZYlt1g" rel="nofollow noreferrer" role="link" style="cursor: pointer\; text-decoration-line: none\; list-style: none\; margin: 0px\; text-align: inherit\; border-style: none\; padding: 0px\; box-sizing: border-box\; border-width: 0px\; outline: none\; -webkit-tap-highlight-color: transparent\; touch-action: manipulation\; background-color: transparent\; display: inline\; font-family: inherit\;" tabindex="0" target="_blank">https://www.porthopefair.com/fair-book/</a></span></div>\n
LOCATION:Port Hope Agricultural Park
UID:e.2285.642
SEQUENCE:3
DTSTAMP:20260425T160807Z
URL:https://business.porthopechamber.com/events/details/2024-port-hope-fair-sow-it-grow-it-show-it-642
END:VEVENT

END:VCALENDAR
