BEGIN:VCALENDAR
VERSION:2.0
PRODID:-//ChamberMaster//Event Calendar 2.0//EN
METHOD:PUBLISH
X-PUBLISHED-TTL:P3D
REFRESH-INTERVAL:P3D
CALSCALE:GREGORIAN
BEGIN:VEVENT
DTSTART:20240222T170000Z
DTEND:20240222T180000Z
X-MICROSOFT-CDO-ALLDAYEVENT:FALSE
SUMMARY:2024 Lunch and Learn - Fraud Protection and Scam Awareness
DESCRIPTION:To Be Rescheduled \n\n\n\nMembers Only Event\n\nLearn the latest tips and techniques to protect your business and yourself from fraud. Hosted by Megan Carr of Ganaraska Financial Credit Union Reserve your seat today!
X-ALT-DESC;FMTTYPE=text/html:<div>\n<p style="text-align: center\;"><font color="#ff0000"><span style="font-size: 26px\;">To&nbsp\;Be Rescheduled&nbsp\;</span></font><br />\n<br />\n<span style="font-size: 20px\;">Members Only Event</span></p>\n\n<p style="text-align: center\;"><span style="font-size:20px\;">Learn the latest tips and techniques to protect your business and yourself from fraud. Hosted by Megan Carr of Ganaraska Financial Credit Union Reserve your seat today!</span></p>\n</div>\n
LOCATION:Hampton Inn Ganaraska Meeting Room 80 Henderson St Port Hope
UID:e.2285.593
SEQUENCE:3
DTSTAMP:20260424T121625Z
URL:https://business.porthopechamber.com/events/details/2024-lunch-and-learn-fraud-protection-and-scam-awareness-593
END:VEVENT

END:VCALENDAR
